BEGIN:VCALENDAR
VERSION:2.0
PRODID:-//203.98.95.106//NONSGML kigkonsult.se iCalcreator 2.26.9//
CALSCALE:GREGORIAN
METHOD:PUBLISH
X-WR-CALNAME:Great Rail Experiences Australia
X-WR-CALDESC:Heritage and Tourist rail and tramways around Australia
X-FROM-URL:http://www.greatrailexperiencesaustralia.com.au
X-WR-TIMEZONE:Australia/Hobart
BEGIN:VTIMEZONE
TZID:Australia/Hobart
X-LIC-LOCATION:Australia/Hobart
BEGIN:STANDARD
DTSTART:20200405T030000
TZOFFSETFROM:+1100
TZOFFSETTO:+1000
RDATE:20210404T030000
TZNAME:AEST
END:STANDARD
BEGIN:DAYLIGHT
DTSTART:20191006T020000
TZOFFSETFROM:+1000
TZOFFSETTO:+1100
RDATE:20201004T020000
TZNAME:AEDT
END:DAYLIGHT
END:VTIMEZONE
BEGIN:VEVENT
UID:ai1ec-34557@www.sheffieldsteam.com.au
DTSTAMP:20200229T191735Z
CATEGORIES:
CONTACT:Willie S\; 0407 972 156\; nfo@tasteofthenorthwest.com.au\; http://w
 ww.tasteofthenorthwest.com.au/
DESCRIPTION:Come and enjoy some of North West Tasmania’s finest food and be
 verages.\n“This is an event organised by PRODUCERS to showcase their produ
 ce and the best of TASMANIA’S north west.”
DTSTART;TZID=Australia/Hobart:20170422T110000
DTEND;TZID=Australia/Hobart:20170422T160000
GEO:-41.386097;+146.332613
LOCATION:King George V Park @ Sheffield TAS 7306\, Australia
SEQUENCE:0
SUMMARY:Taste of the North West
URL:http://www.greatrailexperiencesaustralia.com.au/event/taste-of-the-nort
 h-west/
X-COST-TYPE:free
X-ALT-DESC;FMTTYPE=text/html:<!DOCTYPE HTML PUBLIC '-//W3C//DTD HTML 3.2//E
 N'>\\n<HTML>\\n<HEAD>\\n<TITLE></TITLE>\\n</HEAD>\\n<BODY><p>Come and enjo
 y some of North West Tasmania’s finest food and beverages.</p>\n<p>“This i
 s an event organised by PRODUCERS to showcase their produce and the best o
 f TASMANIA’S north west.”</p>\n</BODY></HTML>
END:VEVENT
END:VCALENDAR
