BEGIN:VCALENDAR
VERSION:2.0
PRODID:-//203.98.95.106//NONSGML kigkonsult.se iCalcreator 2.26.9//
CALSCALE:GREGORIAN
METHOD:PUBLISH
X-WR-CALNAME:Great Rail Experiences Australia
X-WR-CALDESC:Heritage and Tourist rail and tramways around Australia
X-FROM-URL:http://www.greatrailexperiencesaustralia.com.au
X-WR-TIMEZONE:Australia/Hobart
BEGIN:VTIMEZONE
TZID:Australia/Hobart
X-LIC-LOCATION:Australia/Hobart
BEGIN:STANDARD
DTSTART:20200405T030000
TZOFFSETFROM:+1100
TZOFFSETTO:+1000
RDATE:20210404T030000
TZNAME:AEST
END:STANDARD
BEGIN:DAYLIGHT
DTSTART:20191006T020000
TZOFFSETFROM:+1000
TZOFFSETTO:+1100
RDATE:20201004T020000
TZNAME:AEDT
END:DAYLIGHT
END:VTIMEZONE
BEGIN:VEVENT
UID:ai1ec-525@www.greatrailexperiencesaustralia.com.au
DTSTAMP:20200229T191214Z
CATEGORIES:
CONTACT:6298 3110  or 0428 383 262\; http://idabayrailway.com.au
DESCRIPTION:New tour times have started 1st May 2017 – Trains run everyday 
 10am and 12:30pm! Cafe open 9am to 4pm\nThe Ida Bay Railway is the last op
 erating bush “tramway” in Tasmania…. and Australia’s Southern-Most Railway
 \, located at 328 Lune River Road\, Lune River Tasmania (Australia).\nThe 
 Malcolm Moore Locomotives are painted in a distinctive Red and yellow desi
 gn. Several of the passenger carriages are built on bogie flat wagons buil
 t in the 1890s and some of the earliest bogie wagons in Australia.\nAt the
  Lune River Station\, in Far South Tasmania\, you can still see relics of 
 the limestone carrying days in the form of wagons and machinery.\nThe rail
 way line itself is over 7 kms long so please allow 2 hours for the return 
 trip.\n(see website for more details of the journey!)
DTSTART;TZID=Australia/Hobart:20170501T090000
DTEND;TZID=Australia/Hobart:20171224T160000
GEO:-43.443589;+146.903525
LOCATION:Ida Bay Railway @ 328 Lune River Rd\, Ida Bay TAS 7109\, Australia
RRULE:FREQ=DAILY
SEQUENCE:0
SUMMARY:Most southern rail in Australia
URL:http://www.greatrailexperiencesaustralia.com.au/event/most-southern-rai
 l-in-australia-2/
X-COST-TYPE:free
X-ALT-DESC;FMTTYPE=text/html:<!DOCTYPE HTML PUBLIC '-//W3C//DTD HTML 3.2//E
 N'>\\n<HTML>\\n<HEAD>\\n<TITLE></TITLE>\\n</HEAD>\\n<BODY><h3>New tour tim
 es have started 1st May 2017 – Trains run everyday 10am and 12:30pm! Cafe 
 open 9am to 4pm</h3>\n<p>The Ida Bay Railway is the last operating bush “t
 ramway” in Tasmania…. and Australia’s Southern-Most Railway\, located at 3
 28 Lune River Road\, Lune River Tasmania (Australia).</p>\n<p>The Malcolm 
 Moore Locomotives are painted in a distinctive Red and yellow design. Seve
 ral of the passenger carriages are built on bogie flat wagons built in the
  1890s and some of the earliest bogie wagons in Australia.</p>\n<p>At the 
 Lune River Station\, in Far South Tasmania\, you can still see relics of t
 he limestone carrying days in the form of wagons and machinery.</p>\n<p>Th
 e railway line itself is over 7 kms long so please allow 2 hours for the r
 eturn trip.</p>\n<p>(see website for more details of the journey!)</p>\n</
 BODY></HTML>
X-COST:Adults $32 Concession $27.20 (Senior\, Aged\, Disability & Student) 
 Children over 3 yrs $17.20 Children under 3 yrs Free. Family $75 (2 adults
  & 2 children 3 -16 years)Additional kids $10 each
END:VEVENT
END:VCALENDAR
