BEGIN:VCALENDAR
VERSION:2.0
PRODID:-//203.98.95.106//NONSGML kigkonsult.se iCalcreator 2.26.9//
CALSCALE:GREGORIAN
METHOD:PUBLISH
X-WR-CALNAME:Great Rail Experiences Australia
X-WR-CALDESC:Heritage and Tourist rail and tramways around Australia
X-FROM-URL:http://www.greatrailexperiencesaustralia.com.au
X-WR-TIMEZONE:Australia/Hobart
BEGIN:VTIMEZONE
TZID:Australia/Hobart
X-LIC-LOCATION:Australia/Hobart
BEGIN:STANDARD
DTSTART:20200405T030000
TZOFFSETFROM:+1100
TZOFFSETTO:+1000
RDATE:20210404T030000
TZNAME:AEST
END:STANDARD
BEGIN:DAYLIGHT
DTSTART:20191006T020000
TZOFFSETFROM:+1000
TZOFFSETTO:+1100
RDATE:20201004T020000
TZNAME:AEDT
END:DAYLIGHT
END:VTIMEZONE
BEGIN:VEVENT
UID:ai1ec-116371@www.greatrailexperiencestasmania.com.au
DTSTAMP:20200229T191400Z
CATEGORIES:
CONTACT:
DESCRIPTION:The Railtrack Rider is the only tourism product of its type cur
 rently operating in Australia. This unique selling point is further enhanc
 ed by the setting in which the product operates.\nRailtrack Riders provide
 s visitors with exclusive access into a tract of the southern Tasmanian ra
 inforest via an historic rail line\,that provides access to industrial rel
 ics of this time\, now all but reclaimed by the forest. Being pedal-powere
 d\, the Railtrack Riders allows visitors to travel at their own pace and f
 ully experience the sights\, sounds and smells of the rainfo\nPlease call 
 0427 206 864 for bookings as seats fill up fast.\nFor further information 
 www.railtrackriders.com.au
DTSTART;VALUE=DATE:20180201
DTEND;VALUE=DATE:20180202
GEO:-42.754975;+146.624457
LOCATION:Rail Track Riders @ 3 Mayne St\, Maydena TAS 7140\, Australia
SEQUENCE:0
SUMMARY:Rail Track Riders
URL:http://www.greatrailexperiencesaustralia.com.au/event/rail-track-riders
 -2/
X-COST-TYPE:free
X-ALT-DESC;FMTTYPE=text/html:<!DOCTYPE HTML PUBLIC '-//W3C//DTD HTML 3.2//E
 N'>\\n<HTML>\\n<HEAD>\\n<TITLE></TITLE>\\n</HEAD>\\n<BODY><p>The Railtrack
  Rider is the only tourism product of its type currently operating in Aust
 ralia. This unique selling point is further enhanced by the setting in whi
 ch the product operates.</p>\n<p>Railtrack Riders provides visitors with e
 xclusive access into a tract of the southern Tasmanian rainforest via an h
 istoric rail line\,that provides access to industrial relics of this time\
 , now all but reclaimed by the forest. Being pedal-powered\, the Railtrack
  Riders allows visitors to travel at their own pace and fully experience t
 he sights\, sounds and smells of the rainfo</p>\n<p>Please call 0427 206 8
 64 for bookings as seats fill up fast.<br />\nFor further information www.
 railtrackriders.com.au</p>\n</BODY></HTML>
END:VEVENT
END:VCALENDAR
