BEGIN:VCALENDAR
VERSION:2.0
PRODID:-//203.98.95.106//NONSGML kigkonsult.se iCalcreator 2.26.9//
CALSCALE:GREGORIAN
METHOD:PUBLISH
X-WR-CALNAME:Great Rail Experiences Australia
X-WR-CALDESC:Heritage and Tourist rail and tramways around Australia
X-FROM-URL:http://www.greatrailexperiencesaustralia.com.au
X-WR-TIMEZONE:Australia/Hobart
BEGIN:VTIMEZONE
TZID:Australia/Hobart
X-LIC-LOCATION:Australia/Hobart
BEGIN:STANDARD
DTSTART:20200405T030000
TZOFFSETFROM:+1100
TZOFFSETTO:+1000
RDATE:20210404T030000
TZNAME:AEST
END:STANDARD
BEGIN:DAYLIGHT
DTSTART:20191006T020000
TZOFFSETFROM:+1000
TZOFFSETTO:+1100
RDATE:20201004T020000
TZNAME:AEDT
END:DAYLIGHT
END:VTIMEZONE
BEGIN:VEVENT
UID:ai1ec-116369@www.greatrailexperiencestasmania.com.au
DTSTAMP:20200229T191944Z
CATEGORIES:
CONTACT:Tasmanian Transport Museum\; 0428 386 843
DESCRIPTION:Have an appreciation of history? Don’t miss this extensive coll
 ection of Tasmanian railway heritage.\nThe Tasmanian Transport Museum Soci
 ety was founded in the 1960s\, with the museum finally opening to the publ
 ic in 1983. The museum houses seven steam locomotives (two operational)\, 
 three operational diesel locomotives\, two operational diesel rail cars\, 
 seven carriages\, three tram cars\, two Hobart trolley buses\, numerous go
 ods wagons and other exhibits including buses\, traction engines and other
  vehicles.\nTake a ride on a diesel railcar!
DTSTART;TZID=Australia/Hobart:20180204T110000
DTEND;TZID=Australia/Hobart:20180204T160000
GEO:-42.828989;+147.277684
LOCATION:Tasmanian Transport Museum @ Anfield St\, Glenorchy TAS 7010\, Aus
 tralia
RRULE:FREQ=MONTHLY;BYDAY=1SU
SEQUENCE:0
SUMMARY:Tasmanian Transport Museum
URL:http://www.greatrailexperiencesaustralia.com.au/event/tasmanian-transpo
 rt-museum-3/
X-COST-TYPE:free
X-ALT-DESC;FMTTYPE=text/html:<!DOCTYPE HTML PUBLIC '-//W3C//DTD HTML 3.2//E
 N'>\\n<HTML>\\n<HEAD>\\n<TITLE></TITLE>\\n</HEAD>\\n<BODY><p>Have an appre
 ciation of history? Don’t miss this extensive collection of Tasmanian rail
 way heritage.</p>\n<p>The Tasmanian Transport Museum Society was founded i
 n the 1960s\, with the museum finally opening to the public in 1983. The m
 useum houses seven steam locomotives (two operational)\, three operational
  diesel locomotives\, two operational diesel rail cars\, seven carriages\,
  three tram cars\, two Hobart trolley buses\, numerous goods wagons and ot
 her exhibits including buses\, traction engines and other vehicles.</p>\n<
 p>Take a ride on a diesel railcar!</p>\n</BODY></HTML>
END:VEVENT
END:VCALENDAR
